BEGIN:VCALENDAR
VERSION:2.0
METHOD:PUBLISH
PRODID:-//Accessible Web Design//My Calendar//http://www.joedolson.com//v//EN';
BEGIN:VEVENT
UID:793-39
LOCATION:HeliosTerra / Gärtnerei Berg - Binzen Niederfeld 1  Binzen BW 79589
SUMMARY:Präparate gemeinsam herstellen. Gemeinsam mit Freunden, Kunden und den Mitgliedern von HeliosTerra stellen wir die biodynamischen Präparate des Frühlings her.
DTSTAMP:20230425T140000
ORGANIZER;CN=Peter Berg:MAILTO:info@heliosterra.de
DTSTART:20230425T140000
DTEND:20230425T180000
CATEGORIES:
URL;VALUE=URI:http://heliosterra.de/my-calendar/?cid=mc_mini_widget-5&#038;mc_id=793&#038;vcal=793
DESCRIPTION:
END:VEVENT
END:VCALENDAR